BEGIN:VCALENDAR
VERSION:2.0
PRODID:-//Wegamed - ECPv6.10.2//NONSGML v1.0//EN
CALSCALE:GREGORIAN
METHOD:PUBLISH
X-WR-CALNAME:Wegamed
X-ORIGINAL-URL:https://www.wegamed.com/it/
X-WR-CALDESC:Eventi per Wegamed
REFRESH-INTERVAL;VALUE=DURATION:PT1H
X-Robots-Tag:noindex
X-PUBLISHED-TTL:PT1H
BEGIN:VTIMEZONE
TZID:UTC
BEGIN:STANDARD
TZOFFSETFROM:+0000
TZOFFSETTO:+0000
TZNAME:UTC
DTSTART:20240101T000000
END:STANDARD
END:VTIMEZONE
BEGIN:VEVENT
DTSTART;TZID=UTC:20240911T150000
DTEND;TZID=UTC:20240911T180000
DTSTAMP:20260421T235106
CREATED:20240301T213907Z
LAST-MODIFIED:20240704T125051Z
UID:9327-1726066800-1726077600@www.wegamed.com
SUMMARY:CONTROLLA LO SPORT MEDICO
DESCRIPTION:Dalla pratica alla pratica: I workshop di Wegamed sono il modo ideale per approfondire le tue conoscenze sull’interpretazione dei grafici e delle informazioni al fine di individuare ulteriori opzioni diagnostiche\, se necessario\, o approcci terapeutici.
URL:https://www.wegamed.com/it/event/controlla-lo-sport-medico-2/
CATEGORIES:Laboratori
END:VEVENT
BEGIN:VEVENT
DTSTART;TZID=UTC:20240605T150000
DTEND;TZID=UTC:20240605T180000
DTSTAMP:20260421T235106
CREATED:20240301T152718Z
LAST-MODIFIED:20240704T125049Z
UID:9329-1717599600-1717610400@www.wegamed.com
SUMMARY:ESPERTO DI TEST PLUS
DESCRIPTION:Dalla pratica alla pratica: I workshop di Wegamed sono il modo ideale per approfondire le tue conoscenze sull’interpretazione dei grafici e delle informazioni al fine di individuare ulteriori opzioni diagnostiche\, se necessario\, o approcci terapeutici.
URL:https://www.wegamed.com/it/event/esperto-di-test-plus/
END:VEVENT
BEGIN:VEVENT
DTSTART;TZID=UTC:20240410T150000
DTEND;TZID=UTC:20240410T180000
DTSTAMP:20260421T235106
CREATED:20240301T152113Z
LAST-MODIFIED:20240704T125050Z
UID:9330-1712761200-1712772000@www.wegamed.com
SUMMARY:SELEZIONE MEDICA/MATRICE MEDICA
DESCRIPTION:Dalla pratica alla pratica: I workshop di Wegamed sono il modo ideale per approfondire le tue conoscenze sull’interpretazione dei grafici e delle informazioni al fine di individuare ulteriori opzioni diagnostiche\, se necessario\, o approcci terapeutici.
URL:https://www.wegamed.com/it/event/selezione-medica-matrice-medica-2/
CATEGORIES:Laboratori
END:VEVENT
BEGIN:VEVENT
DTSTART;TZID=UTC:20240320T150000
DTEND;TZID=UTC:20240320T180000
DTSTAMP:20260421T235106
CREATED:20230811T141058Z
LAST-MODIFIED:20240704T125152Z
UID:9326-1710946800-1710957600@www.wegamed.com
SUMMARY:CONTROLLA LO SPORT MEDICO
DESCRIPTION:Dalla pratica alla pratica: I workshop di Wegamed sono il modo ideale per approfondire le tue conoscenze sull’interpretazione dei grafici e delle informazioni al fine di individuare ulteriori opzioni diagnostiche\, se necessario\, o approcci terapeutici.
URL:https://www.wegamed.com/it/event/controlla-lo-sport-medico/
CATEGORIES:Laboratori
END:VEVENT
END:VCALENDAR