BEGIN:VCALENDAR
VERSION:2.0
PRODID:-//Wegamed - ECPv6.10.2//NONSGML v1.0//EN
CALSCALE:GREGORIAN
METHOD:PUBLISH
X-WR-CALNAME:Wegamed
X-ORIGINAL-URL:https://www.wegamed.com/it/
X-WR-CALDESC:Eventi per Wegamed
REFRESH-INTERVAL;VALUE=DURATION:PT1H
X-Robots-Tag:noindex
X-PUBLISHED-TTL:PT1H
BEGIN:VTIMEZONE
TZID:UTC
BEGIN:STANDARD
TZOFFSETFROM:+0000
TZOFFSETTO:+0000
TZNAME:UTC
DTSTART:20240101T000000
END:STANDARD
END:VTIMEZONE
BEGIN:VEVENT
DTSTART;TZID=UTC:20241115T093000
DTEND;TZID=UTC:20241119T173000
DTSTAMP:20260421T170534
CREATED:20230811T143445Z
LAST-MODIFIED:20240706T092357Z
UID:9332-1731663000-1732037400@www.wegamed.com
SUMMARY:SEMINARIO INTERNAZIONALE
DESCRIPTION:Utilizzi già tutte le possibilità dei tuoi dispositivi o del tuo know-how? \nInvesti solo cinque giorni del tuo prezioso tempo libero per raggiungere il tuo massimo potenziale e poter aiutare il maggior numero possibile di pazienti. \nImpara e approfondisci un concetto di wegamed gmbh che è stato utilizzato con successo in tutto il mondo. \n\nPanoramica della diagnosi: Ottieni una panoramica della rigenerazione e delle capacità libere dei tuoi pazienti nel più breve tempo possibile per poterli trattare con successo o prevenire per tempo.\nFondamenti delle discipline interdisciplinari\nTecniche di diagnosi differenziale: Identificare l’origine e le catene causali di una malattia o di una profilassi.\nOpzioni di disintossicazione per la modulazione immunitaria e la stabilizzazione delle difese contro le infezioni\nNeutralizzazione di allergeni\, carichi vaccinali e tossine con un protocollo collaudato\nEquilibrio mentale per ripristinare l’equilibrio interiore\nTecniche per eliminare e neutralizzare le tossine\, vaccinazioni\, ecc.\nCreazione di protocolli di test o terapie individuali\nImparare le connessioni tra l’intera diagnosi per una terapia di successo\nDiscussione di casi di pazienti propri per approfondire quanto appreso\n\nAffidati ai nostri 35 anni di esperienza pratica\, che ci permettono di utilizzare un’ampia gamma di dispositivi medici approvati. \nDurante questi 5 giorni entrerai a far parte di una comunità di terapeuti di successo e imparerai dai successi degli altri terapeuti. Grazie a questi fantastici approcci\, imparerai nuovi modi per aiutare efficacemente i tuoi pazienti e soprattutto i pazienti stressati dalla COVID19.
URL:https://www.wegamed.com/it/event/seminario-internazionale/
CATEGORIES:Seminari
END:VEVENT
END:VCALENDAR