BEGIN:VCALENDAR
VERSION:2.0
PRODID:-//Wegamed - ECPv6.10.2//NONSGML v1.0//EN
CALSCALE:GREGORIAN
METHOD:PUBLISH
X-ORIGINAL-URL:https://www.wegamed.com
X-WR-CALDESC:Events for Wegamed
REFRESH-INTERVAL;VALUE=DURATION:PT1H
X-Robots-Tag:noindex
X-PUBLISHED-TTL:PT1H
BEGIN:VTIMEZONE
TZID:UTC
BEGIN:STANDARD
TZOFFSETFROM:+0000
TZOFFSETTO:+0000
TZNAME:UTC
DTSTART:20240101T000000
END:STANDARD
END:VTIMEZONE
BEGIN:VEVENT
DTSTART;TZID=UTC:20241106T150000
DTEND;TZID=UTC:20241106T180000
DTSTAMP:20260421T195331
CREATED:20240301T214601Z
LAST-MODIFIED:20240301T214601Z
UID:8206-1730905200-1730916000@www.wegamed.com
SUMMARY:MED SELECT/MED MATRIX
DESCRIPTION:From practice for practice: The Wegamed workshops are the ideal way to deepen your knowledge of interpreting the graphics and information in order to see further diagnostic options if necessary or to find therapy approaches.
URL:https://www.wegamed.com/event/med-select-med-matrix-nov/
CATEGORIES:Workshops
END:VEVENT
BEGIN:VEVENT
DTSTART;TZID=UTC:20241115T093000
DTEND;TZID=UTC:20241119T173000
DTSTAMP:20260421T195331
CREATED:20230811T143445Z
LAST-MODIFIED:20240503T184255Z
UID:2906-1731663000-1732037400@www.wegamed.com
SUMMARY:INTERNATIONAL SEMINAR
DESCRIPTION:Do you already use all the possibilities of your devices or your know-how? \nInvest just five days of your precious free time to reach your full potential and to be able to help as many of your patients as possible. \nLearn and deepen a wegamed gmbh concept that has been used successfully worldwide. \n\nOverview diagnosis: Get an overview of the regeneration and free capacities of your patients in the shortest possible time in order to treat them successfully or prevent them in good time\nFoundations of the interdisciplinary disciplines\nDifferential diagnostic techniques: Identify the origin and causal chains of a disease or as a prophylaxis\nDetoxification options for immune modulation and stabilization of the defense against infection\nNeutralization of allergens\, vaccine burdens and toxins with proven protocol\nMental balance to restore inner balance\nTechniques for eliminating and neutralizing toxins\, vaccinations\, etc.\nCreation of individual test or therapy protocols\nLearning the connections between the entire diagnosis for a successful therapy\nDiscussion of own patient cases to deepen what has been learned\n\nTrust in our 35 years of practical experience\, which enables us to use a broad portfolio of approved medical devices. \nDuring these 5 days you will become part of a successful therapist community while learning from the successes of other therapists. With these great approaches\, you will learn new ways to effectively help your patients and especially the patients stressed by COVID19.
URL:https://www.wegamed.com/event/international-seminar/
CATEGORIES:Seminars
END:VEVENT
END:VCALENDAR