BEGIN:VCALENDAR
VERSION:2.0
PRODID:-//Wegamed - ECPv6.10.2//NONSGML v1.0//EN
CALSCALE:GREGORIAN
METHOD:PUBLISH
X-WR-CALNAME:Wegamed
X-ORIGINAL-URL:https://www.wegamed.com
X-WR-CALDESC:Events for Wegamed
REFRESH-INTERVAL;VALUE=DURATION:PT1H
X-Robots-Tag:noindex
X-PUBLISHED-TTL:PT1H
BEGIN:VTIMEZONE
TZID:UTC
BEGIN:STANDARD
TZOFFSETFROM:+0000
TZOFFSETTO:+0000
TZNAME:UTC
DTSTART:20240101T000000
END:STANDARD
END:VTIMEZONE
BEGIN:VEVENT
DTSTART;TZID=UTC:20241025T093000
DTEND;TZID=UTC:20241027T173000
DTSTAMP:20260420T211809
CREATED:20230811T035536Z
LAST-MODIFIED:20240826T152421Z
UID:2588-1729848600-1730050200@www.wegamed.com
SUMMARY:COMPACT SEMINAR - GERMAN
DESCRIPTION:Do you already use all the possibilities of your devices or your know-how? \nInvest just three days of your precious free time to reach your full potential and to be able to help as many of your patients as possible. \nLearn and deepen a wegamed gmbh concept that has been used successfully worldwide. \n\nOverview diagnosis: Get an overview of the regeneration and free capacities of your patients in the shortest possible time in order to treat them successfully or prevent them in good time\nFoundations of the interdisciplinary disciplines\nDifferential diagnostic techniques: Identify the origin and causal chains of a disease or as a prophylaxis\nDetoxification options for immune modulation and stabilization of the defense against infection\nNeutralization of allergens\, vaccine burdens and toxins with proven protocol\nMental balance to restore inner balance\nTechniques for eliminating and neutralizing toxins\, vaccinations\, etc.\nCreation of individual test or therapy protocols\nLearning the connections between the entire diagnosis for a successful therapy\nDiscussion of own patient cases to deepen what has been learned\n\nTrust in our 35 years of practical experience\, which enables us to use a broad portfolio of approved medical devices. \nDuring these 3 days you will become part of a successful therapist community while learning from the successes of other therapists. With these great approaches\, you will learn new ways to effectively help your patients and especially the patients stressed by COVID19.
URL:https://www.wegamed.com/event/national-compact-seminar/
CATEGORIES:Seminars
END:VEVENT
BEGIN:VEVENT
DTSTART;TZID=UTC:20240911T150000
DTEND;TZID=UTC:20240911T180000
DTSTAMP:20260420T211809
CREATED:20240301T213907Z
LAST-MODIFIED:20240301T213907Z
UID:8197-1726066800-1726077600@www.wegamed.com
SUMMARY:CHECK MEDICAL SPORT
DESCRIPTION:From practice for practice: The Wegamed workshops are the ideal way to deepen your knowledge of interpreting the graphics and information in order to see further diagnostic options if necessary or to find therapy approaches.
URL:https://www.wegamed.com/event/check-medical-sport-sept/
CATEGORIES:Workshops
END:VEVENT
BEGIN:VEVENT
DTSTART;TZID=UTC:20240605T150000
DTEND;TZID=UTC:20240605T180000
DTSTAMP:20260420T211809
CREATED:20240301T152718Z
LAST-MODIFIED:20240410T152231Z
UID:8186-1717599600-1717610400@www.wegamed.com
SUMMARY:TEST EXPERT PLUS
DESCRIPTION:From practice for practice: The Wegamed workshops are the ideal way to deepen your knowledge of interpreting the graphics and information in order to see further diagnostic options if necessary or to find therapy approaches.
URL:https://www.wegamed.com/event/test-expert-plus/
END:VEVENT
BEGIN:VEVENT
DTSTART;TZID=UTC:20240410T150000
DTEND;TZID=UTC:20240410T180000
DTSTAMP:20260420T211809
CREATED:20240301T152113Z
LAST-MODIFIED:20240331T223205Z
UID:8171-1712761200-1712772000@www.wegamed.com
SUMMARY:MED SELECT/MED MATRIX
DESCRIPTION:From practice for practice: The Wegamed workshops are the ideal way to deepen your knowledge of interpreting the graphics and information in order to see further diagnostic options if necessary or to find therapy approaches.
URL:https://www.wegamed.com/event/med-select-med-matrix/
CATEGORIES:Workshops
END:VEVENT
BEGIN:VEVENT
DTSTART;TZID=UTC:20240320T150000
DTEND;TZID=UTC:20240320T180000
DTSTAMP:20260420T211809
CREATED:20230811T141058Z
LAST-MODIFIED:20240301T215235Z
UID:2893-1710946800-1710957600@www.wegamed.com
SUMMARY:CHECK MEDICAL SPORT
DESCRIPTION:From practice for practice: The Wegamed workshops are the ideal way to deepen your knowledge of interpreting the graphics and information in order to see further diagnostic options if necessary or to find therapy approaches.
URL:https://www.wegamed.com/event/check-medical-sport/
CATEGORIES:Workshops
END:VEVENT
END:VCALENDAR