BEGIN:VCALENDAR
VERSION:2.0
PRODID:-//Wegamed - ECPv6.10.2//NONSGML v1.0//EN
CALSCALE:GREGORIAN
METHOD:PUBLISH
X-WR-CALNAME:Wegamed
X-ORIGINAL-URL:https://www.wegamed.com
X-WR-CALDESC:Events for Wegamed
REFRESH-INTERVAL;VALUE=DURATION:PT1H
X-Robots-Tag:noindex
X-PUBLISHED-TTL:PT1H
BEGIN:VTIMEZONE
TZID:UTC
BEGIN:STANDARD
TZOFFSETFROM:+0000
TZOFFSETTO:+0000
TZNAME:UTC
DTSTART:20240101T000000
END:STANDARD
END:VTIMEZONE
BEGIN:VEVENT
DTSTART;TZID=UTC:20240320T150000
DTEND;TZID=UTC:20240320T180000
DTSTAMP:20260421T113048
CREATED:20230811T141058Z
LAST-MODIFIED:20240301T215235Z
UID:2893-1710946800-1710957600@www.wegamed.com
SUMMARY:CHECK MEDICAL SPORT
DESCRIPTION:From practice for practice: The Wegamed workshops are the ideal way to deepen your knowledge of interpreting the graphics and information in order to see further diagnostic options if necessary or to find therapy approaches.
URL:https://www.wegamed.com/event/check-medical-sport/
CATEGORIES:Workshops
END:VEVENT
END:VCALENDAR