BEGIN:VCALENDAR
VERSION:2.0
PRODID:-//Wegamed - ECPv6.10.2//NONSGML v1.0//EN
CALSCALE:GREGORIAN
METHOD:PUBLISH
X-WR-CALNAME:Wegamed
X-ORIGINAL-URL:https://www.wegamed.com
X-WR-CALDESC:Events for Wegamed
REFRESH-INTERVAL;VALUE=DURATION:PT1H
X-Robots-Tag:noindex
X-PUBLISHED-TTL:PT1H
BEGIN:VTIMEZONE
TZID:UTC
BEGIN:STANDARD
TZOFFSETFROM:+0000
TZOFFSETTO:+0000
TZNAME:UTC
DTSTART:20250101T000000
END:STANDARD
END:VTIMEZONE
BEGIN:VEVENT
DTSTART;TZID=UTC:20250924T150000
DTEND;TZID=UTC:20250924T180000
DTSTAMP:20260421T063822
CREATED:20250325T105705Z
LAST-MODIFIED:20250325T105705Z
UID:11219-1758726000-1758736800@www.wegamed.com
SUMMARY:BIORESONANCE WORKSHOP
DESCRIPTION:Holistic therapy approaches – with or without prior testing\n\nLearn how to apply bioresonance both as a stand-alone therapy and in combination with diagnostic procedures – individually and practically. \n\nCreating personalized therapy protocols\n\nDiscover how to develop tailored treatment plans using the Med Matrix and Med Select – based on symptoms\, regulation levels\, and clinical experience. \n\nDetoxification as a foundation for successful therapy\n\nUnderstand the importance of systematic detoxification as a basis for effective bioresonance treatment – including practical application in everyday practice.
URL:https://www.wegamed.com/event/bioresonance-workshop-sept/
LOCATION:Online via Teams or in person Location in Essen\, Germany
CATEGORIES:Workshops
END:VEVENT
END:VCALENDAR