BEGIN:VCALENDAR
VERSION:2.0
PRODID:-//Wegamed - ECPv6.10.2//NONSGML v1.0//EN
CALSCALE:GREGORIAN
METHOD:PUBLISH
X-ORIGINAL-URL:https://www.wegamed.com
X-WR-CALDESC:Events for Wegamed
REFRESH-INTERVAL;VALUE=DURATION:PT1H
X-Robots-Tag:noindex
X-PUBLISHED-TTL:PT1H
BEGIN:VTIMEZONE
TZID:UTC
BEGIN:STANDARD
TZOFFSETFROM:+0000
TZOFFSETTO:+0000
TZNAME:UTC
DTSTART:20240101T000000
END:STANDARD
END:VTIMEZONE
BEGIN:VEVENT
DTSTART;TZID=UTC:20241204T150000
DTEND;TZID=UTC:20241204T180000
DTSTAMP:20260421T195302
CREATED:20240301T223512Z
LAST-MODIFIED:20240503T142224Z
UID:8212-1733324400-1733335200@www.wegamed.com
SUMMARY:TEST EXPERT PLUS
DESCRIPTION:From practice for practice: The Wegamed workshops are the ideal way to deepen your knowledge of interpreting the graphics and information in order to see further diagnostic options if necessary or to find therapy approaches.
URL:https://www.wegamed.com/event/test-expert-plus-dec/
END:VEVENT
END:VCALENDAR