BEGIN:VCALENDAR
VERSION:2.0
PRODID:-//Wegamed - ECPv6.10.2//NONSGML v1.0//EN
CALSCALE:GREGORIAN
METHOD:PUBLISH
X-ORIGINAL-URL:https://www.wegamed.com/de/
X-WR-CALDESC:Veranstaltungen für Wegamed
REFRESH-INTERVAL;VALUE=DURATION:PT1H
X-Robots-Tag:noindex
X-PUBLISHED-TTL:PT1H
BEGIN:VTIMEZONE
TZID:UTC
BEGIN:STANDARD
TZOFFSETFROM:+0000
TZOFFSETTO:+0000
TZNAME:UTC
DTSTART:20260101T000000
END:STANDARD
END:VTIMEZONE
BEGIN:VEVENT
DTSTART;VALUE=DATE:20260301
DTEND;VALUE=DATE:20270101
DTSTAMP:20260420T135951
CREATED:20260317T083822Z
LAST-MODIFIED:20260317T113242Z
UID:12148-1772323200-1798761599@www.wegamed.com
SUMMARY:Privatschulungen
DESCRIPTION:Ab sofort können Sie unsere Privatschulungen auch bequem online buchen. Dadurch haben Sie die Möglichkeit\, individuelle Schulungen flexibel und ortsunabhängig wahrzunehmen\, ohne anreisen zu müssen. \nDie Schulung findet exklusiv für Sie statt und wird gezielt auf Ihre Fragen\, Anwendungen und Geräte abgestimmt. So können wir genau auf die Themen eingehen\, die für Ihren Praxisalltag besonders wichtig sind. \nOb Geräteeinweisung\, Anwendungsschulung oder konkrete Fragen aus der Praxis\, in der Privatschulung arbeiten Sie direkt mit unseren Experten zusammen und erhalten praxisnahe Unterstützung. \nDie Termine können einfach über unseren Online-Kalender gebucht werden. Die Buchung ist im 30-Minuten-Takt möglich\, sodass Sie flexibel entscheiden können\, wie viel Zeit Sie für Ihre Schulung benötigen. \nDas Honorar beträgt 150\,00 € pro Stunde zzgl. gesetzlicher Mehrwertsteuer. \nDie vollständigen Buchungs- und Stornobedingungen werden Ihnen im Buchungsprozess angezeigt. \nJetzt buchen
URL:https://www.wegamed.com/de/event-de/privatschulungen/
LOCATION:Online über Teams oder persönlich in Essen\, Germany
END:VEVENT
BEGIN:VEVENT
DTSTART;TZID=UTC:20260311T150000
DTEND;TZID=UTC:20260311T180000
DTSTAMP:20260420T135951
CREATED:20260213T130444Z
LAST-MODIFIED:20260224T113124Z
UID:11859-1773241200-1773252000@www.wegamed.com
SUMMARY:TEST EXPERT PLUS WORKSHOP
DESCRIPTION:Test expert plus workshop \nOnline über Zoom oder persönlich in Essen \nKausalketten erkennen und diagnostisch aufbereiten Erlernen Sie\, wie sich komplexe Beschwerde Bilder auf ursächliche Zusammenhänge zurückführen lassen Entwicklung individueller Testprotokolle Sie erarbeiten praxisnahe Anleitungen zur Erstellung strukturierter und patientenspezifischer Testabläufe mit dem Test Expert Plus – angepasst an Symptomatik und Regulationslage. Thematische Testverfahren gezielt einsetzen Anwendungsbezogene Testungen z. B. bei Zahnstörfeldern\, Allergien\, Schwermetallbelastungen oder Entzündungsprozessen – inklusive Interpretation und Therapieableitung. \n  \n€60
URL:https://www.wegamed.com/de/event-de/test-expert-plus-workshop/
LOCATION:Online über Teams oder persönlich in Essen\, Germany
CATEGORIES:Workshops
END:VEVENT
BEGIN:VEVENT
DTSTART;TZID=UTC:20260325T150000
DTEND;TZID=UTC:20260325T180000
DTSTAMP:20260420T135951
CREATED:20260213T132129Z
LAST-MODIFIED:20260224T113158Z
UID:11864-1774450800-1774461600@www.wegamed.com
SUMMARY:CHECK MEDICAL ELITE & BCA
DESCRIPTION:Online über Zoom oder persönlich in Essen \nOptimieren Sie Ihre diagnostischen Fähigkeiten mit dem Check Medical Sport Was Sie von dem Workshop erwarten können: 1. Vertiefung der erlernten Interpretationen: Gewinnen Sie Sicherheit bei der Interpretation\, indem Sie Ihr Wissen anhand praktischer Beispiele festigen und Ihre diagnostischen Fähigkeiten weiter ausbauen 2. Diskussion von praktischen Fällen: Bringen Sie Fälle aus Ihrer eigenen Praxis mit und profitieren Sie von der jahrelangen Erfahrung eines Experten\, der Ihnen wertvolle Einblicke und praktische Lösungen bietet 3. Erweitern Sie Ihre Diagnose mit einem neuen Werkzeug: Lernen Sie unsere neue Körperkomponentenanalyse kennen\, mit der Sie ein noch tieferes Verständnis für den Körper des Patienten entwickeln. \nErlernen Sie die Interpretation der BCA (Bodycomponent Analyse) in Zusammenhang für Therapie erfolge und trainingszustand des Körpers. \n  \n€60
URL:https://www.wegamed.com/de/event-de/check-medical/
LOCATION:Online über Teams oder persönlich in Essen\, Germany
CATEGORIES:Workshops
END:VEVENT
END:VCALENDAR