BEGIN:VCALENDAR
VERSION:2.0
PRODID:-//Wegamed - ECPv6.10.2//NONSGML v1.0//EN
CALSCALE:GREGORIAN
METHOD:PUBLISH
X-ORIGINAL-URL:https://www.wegamed.com/de/
X-WR-CALDESC:Veranstaltungen für Wegamed
REFRESH-INTERVAL;VALUE=DURATION:PT1H
X-Robots-Tag:noindex
X-PUBLISHED-TTL:PT1H
BEGIN:VTIMEZONE
TZID:UTC
BEGIN:STANDARD
TZOFFSETFROM:+0000
TZOFFSETTO:+0000
TZNAME:UTC
DTSTART:20250101T000000
END:STANDARD
END:VTIMEZONE
BEGIN:VEVENT
DTSTART;TZID=UTC:20250326T150000
DTEND;TZID=UTC:20250326T180000
DTSTAMP:20260421T095433
CREATED:20250305T141621Z
LAST-MODIFIED:20250305T141621Z
UID:10959-1743001200-1743012000@www.wegamed.com
SUMMARY:Check Medical Sport Workshop
DESCRIPTION:Optimieren Sie Ihre diagnostischen Fähigkeiten mit dem Check Medical Sport \nWas Sie von dem Workshop erwarten können: \n1. Vertiefung der erlernten Interpretationen: Gewinnen Sie Sicherheit bei der Interpretation\, indem Sie Ihr Wissen anhand praktischer Beispiele festigen und Ihre diagnostischen Fähigkeiten weiter ausbauen\n2. Diskussion von praktischen Fällen: Bringen Sie Fälle aus Ihrer eigenen Praxis mit und profitieren Sie von der jahrelangen Erfahrung eines Experten\, der Ihnen wertvolle Einblicke und praktische Lösungen bietet\n3. Erweitern Sie Ihre Diagnose mit einem neuen Werkzeug: Lernen Sie unsere neue Körperkomponentenanalyse kennen\, mit der Sie ein noch tieferes Verständnis für den Körper des Patienten entwickeln und präzisere Diagnosen und individuellere Therapieansätze ableiten können \nWann: Mittwoch\, 26. März 2025 von 15:00 Uhr bis 18:00 Uhr.\nWo: Online über Zoom oder persönlich Standort in Essen\nKosten: 60€ inklusive. MEHRWERTSTEUER\nRegistrieren Sie sich: Bitte senden Sie Ihre Anfrage direkt an info@wegamed.de und wir werden Ihnen alle weiteren Informationen zusenden \nHaftungsausschluss: Dieser Workshop wird in deutscher Sprache abgehalten.
URL:https://www.wegamed.com/de/event-de/check-medical-sport-workshop/
LOCATION:Online über Teams oder persönlich in Essen\, Germany
CATEGORIES:Workshops
END:VEVENT
BEGIN:VEVENT
DTSTART;TZID=UTC:20250326T150000
DTEND;TZID=UTC:20250326T180000
DTSTAMP:20260421T095433
CREATED:20250305T144029Z
LAST-MODIFIED:20250325T114852Z
UID:10971-1743001200-1743012000@www.wegamed.com
SUMMARY:CHECK MEDICAL SPORT
DESCRIPTION:Optimieren Sie Ihre diagnostischen Fähigkeiten mit dem Check Medical Sport \nWas Sie von dem Workshop erwarten können: \n1. Vertiefung der erlernten Interpretationen: Gewinnen Sie Sicherheit bei der Interpretation\, indem Sie Ihr Wissen anhand praktischer Beispiele festigen und Ihre diagnostischen Fähigkeiten weiter ausbauen\n2. Diskussion von praktischen Fällen: Bringen Sie Fälle aus Ihrer eigenen Praxis mit und profitieren Sie von der jahrelangen Erfahrung eines Experten\, der Ihnen wertvolle Einblicke und praktische Lösungen bietet\n3. Erweitern Sie Ihre Diagnose mit einem neuen Werkzeug: Lernen Sie unsere neue Körperkomponentenanalyse kennen\, mit der Sie ein noch tieferes Verständnis für den Körper des Patienten entwickeln und präzisere Diagnosen und individuellere Therapieansätze ableiten können \nRegistrieren: Bitte senden Sie Ihre Anfrage direkt an die info@wegamed.de und wir senden Ihre alle weiteren Informationen zu \nHaftungsausschluss: Dieser Workshop wird in deutscher Sprache abgehalten.
URL:https://www.wegamed.com/de/event-de/check-medical-sport-mar/
LOCATION:Online über Teams oder persönlich in Essen\, Germany
CATEGORIES:Workshops
END:VEVENT
END:VCALENDAR