BEGIN:VCALENDAR
VERSION:2.0
PRODID:-//Wegamed - ECPv6.10.2//NONSGML v1.0//EN
CALSCALE:GREGORIAN
METHOD:PUBLISH
X-WR-CALNAME:Wegamed
X-ORIGINAL-URL:https://www.wegamed.com/de/
X-WR-CALDESC:Veranstaltungen für Wegamed
REFRESH-INTERVAL;VALUE=DURATION:PT1H
X-Robots-Tag:noindex
X-PUBLISHED-TTL:PT1H
BEGIN:VTIMEZONE
TZID:UTC
BEGIN:STANDARD
TZOFFSETFROM:+0000
TZOFFSETTO:+0000
TZNAME:UTC
DTSTART:20250101T000000
END:STANDARD
END:VTIMEZONE
BEGIN:VEVENT
DTSTART;TZID=UTC:20250409T150000
DTEND;TZID=UTC:20250409T180000
DTSTAMP:20260421T094935
CREATED:20250325T114202Z
LAST-MODIFIED:20250325T120100Z
UID:11241-1744210800-1744221600@www.wegamed.com
SUMMARY:TEST EXPERT PLUS WORKSHOP​
DESCRIPTION:Kausalketten erkennen und diagnostisch aufbereiten\n\nErlernen Sie\, wie sich komplexe Beschwerdebilder auf ursächliche Zusammenhänge zurückführen lassen \n\nEntwicklung individueller Testprotokolle\n\nSie erhalten praxisnahe Anleitung zur Erstellung strukturierter und patientenspezifischer Testabläufe mit dem Test Expert Plus – angepasst an Symptomatik und Regulationslage. \n\nThematische Testverfahren gezielt einsetzen\n\nAnwendungsbezogene Testungen z. B. bei Zahnstörfeldern\, Allergien\, Schwermetallbelastungen oder Entzündungsprozessen – inklusive Interpretation und Therapieableitung.
URL:https://www.wegamed.com/de/event-de/test-expert-plus-workshop-april/
LOCATION:Online über Teams oder persönlich in Essen\, Germany
END:VEVENT
END:VCALENDAR